BEGIN:VCALENDAR
VERSION:2.0
PRODID:-//https://calenda-formation.labocleo.org
X-WR-CALNAME:Calenda
X-WR-TIMEZONE:Europe/Paris
CALSCALE:GREGORIAN
X-WR-CALDESC:The calendar for arts, humanities and social sciences
METHOD:PUBLISH
BEGIN:VEVENT
DTSTART;VALUE=DATE:20151116
DTEND;VALUE=DATE:20151117
UID:337882-20151116@calenda.revues.org
SUMMARY:Images\, representations and the imagination of the Self and the Other : Confronting scholarly and popular cultures to contribute to the stabilisation of the Congo
URL:https://calenda-formation.labocleo.org/337882
DESCRIPTION:Le colloque propose une confrontation interdisciplinaire sur les représentations du Soi et de l’Autre\, réservant une attention particulière à la confrontation des cultures savantes et populaires en République démocratique du Congo. Inspiré par l’expé… @plus_info https://calenda-formation.labocleo.org/337882
LOCATION:Rende
END:VEVENT
END:VCALENDAR
