BEGIN:VCALENDAR
VERSION:2.0
PRODID:-//https://calenda-formation.labocleo.org
X-WR-CALNAME:Calenda
X-WR-TIMEZONE:Europe/Paris
CALSCALE:GREGORIAN
X-WR-CALDESC:The calendar for arts, humanities and social sciences
METHOD:PUBLISH
BEGIN:VEVENT
DTSTART;VALUE=DATE:20150928
DTEND;VALUE=DATE:20150929
UID:337920-20150928@calenda.revues.org
SUMMARY:Symbol and Design in Contemporary Churches
URL:https://calenda-formation.labocleo.org/337920
DESCRIPTION:The Third International Seminar intends to be an appointment of critical reflection on the difficulties that symbol has gone through in the twentieth-century liturgical architecture. After years of lack of interest for all related subjects\, during th… @plus_info https://calenda-formation.labocleo.org/337920
LOCATION:Bologna
END:VEVENT
END:VCALENDAR
