BEGIN:VCALENDAR
VERSION:2.0
PRODID:-//https://calenda-formation.labocleo.org
X-WR-CALNAME:Calenda
X-WR-TIMEZONE:Europe/Paris
CALSCALE:GREGORIAN
X-WR-CALDESC:The calendar for arts, humanities and social sciences
METHOD:PUBLISH
BEGIN:VEVENT
DTSTART;VALUE=DATE:20150917
DTEND;VALUE=DATE:20150918
UID:338598-20150917@calenda.revues.org
SUMMARY:Photographic capitals
URL:https://calenda-formation.labocleo.org/338598
DESCRIPTION:À la rencontre de l’histoire architecturale et urbaine et de l’histoire de la photographie\, le colloque Les capitales photographiques porte sur la période qui va des débuts de la photographie à la première guerre mondiale. Il s’intéresse à la façon d… @plus_info https://calenda-formation.labocleo.org/338598
LOCATION:Paris
END:VEVENT
BEGIN:VEVENT
DTSTART;VALUE=DATE:20150918
DTEND;VALUE=DATE:20150919
UID:338598-20150918@calenda.revues.org
SUMMARY:Photographic capitals
URL:https://calenda-formation.labocleo.org/338598
DESCRIPTION:À la rencontre de l’histoire architecturale et urbaine et de l’histoire de la photographie\, le colloque Les capitales photographiques porte sur la période qui va des débuts de la photographie à la première guerre mondiale. Il s’intéresse à la façon d… @plus_info https://calenda-formation.labocleo.org/338598
LOCATION:Paris
END:VEVENT
END:VCALENDAR
