BEGIN:VCALENDAR
VERSION:2.0
PRODID:-//https://calenda-formation.labocleo.org
X-WR-CALNAME:Calenda
X-WR-TIMEZONE:Europe/Paris
CALSCALE:GREGORIAN
X-WR-CALDESC:O calendário de letras e de ciências sociais e humanas
METHOD:PUBLISH
BEGIN:VEVENT
DTSTART;VALUE=DATE:20150926
DTEND;VALUE=DATE:20150927
UID:338849-20150926@calenda.revues.org
SUMMARY:Spinoza – Malebranche : de l’ontologie à la politique
URL:https://calenda-formation.labocleo.org/338849
DESCRIPTION:Au cours du XIXe et du XXe siècle (surtout dans la première moitié)\, des historiens de la philosophie ont analysé les rapports entre Spinoza et Malebranche\, tout particulièrement à la lumière de la correspondance avec Dortous de Mairan. Malgré ces tr… @plus_info https://calenda-formation.labocleo.org/338849
LOCATION:Paris
END:VEVENT
END:VCALENDAR
