BEGIN:VCALENDAR
VERSION:2.0
PRODID:-//https://calenda-formation.labocleo.org
X-WR-CALNAME:Calenda
X-WR-TIMEZONE:Europe/Paris
CALSCALE:GREGORIAN
X-WR-CALDESC:The calendar for arts, humanities and social sciences
METHOD:PUBLISH
BEGIN:VEVENT
DTSTART;VALUE=DATE:20151201
DTEND;VALUE=DATE:20151202
UID:339063-20151201@calenda.revues.org
SUMMARY:Designing\, living in and representing houses in the Middle Ages and the Renaissance between the Loire and the Rhine
URL:https://calenda-formation.labocleo.org/339063
DESCRIPTION:L’architecture et l’espace domestiques sont au cœur du projet « Concevoir\, habiter\, représenter la maison au Moyen Âge et à la Renaissance entre Loire et Rhin »\, deuxième volet du colloque « La forme de la maison » prévu les 26 et 27 mai 2016 à Amien… @plus_info https://calenda-formation.labocleo.org/339063
LOCATION:Amiens
END:VEVENT
END:VCALENDAR
