BEGIN:VCALENDAR
VERSION:2.0
PRODID:-//https://calenda-formation.labocleo.org
X-WR-CALNAME:Calenda
X-WR-TIMEZONE:Europe/Paris
CALSCALE:GREGORIAN
X-WR-CALDESC:Le calendrier des lettres et sciences humaines et sociales
METHOD:PUBLISH
BEGIN:VEVENT
DTSTART;VALUE=DATE:20151119
DTEND;VALUE=DATE:20151120
UID:339447-20151119@calenda.revues.org
SUMMARY:De nouvelles approches entre chrétiens et juifs (XIXe-XXIe siècle)  
URL:https://calenda-formation.labocleo.org/339447
DESCRIPTION:Les différents textes promulgués par le second Concile de Vatican ont mis en tension la vocation missionnaire de l’Église catholique et ses nouvelles dispositions pour le dialogue interreligieux. Dans ce contexte\, la mission aux juifs\, prônée par cer… @plus_info https://calenda-formation.labocleo.org/339447
LOCATION:Arras
END:VEVENT
BEGIN:VEVENT
DTSTART;VALUE=DATE:20150920
DTEND;VALUE=DATE:20150921
UID:339447-20150920@calenda.revues.org
SUMMARY:De nouvelles approches entre chrétiens et juifs (XIXe-XXIe siècle)  
URL:https://calenda-formation.labocleo.org/339447
DESCRIPTION:Les différents textes promulgués par le second Concile de Vatican ont mis en tension la vocation missionnaire de l’Église catholique et ses nouvelles dispositions pour le dialogue interreligieux. Dans ce contexte\, la mission aux juifs\, prônée par cer… @plus_info https://calenda-formation.labocleo.org/339447
LOCATION:Arras
END:VEVENT
END:VCALENDAR
