BEGIN:VCALENDAR
VERSION:2.0
PRODID:-//https://calenda-formation.labocleo.org
X-WR-CALNAME:Calenda
X-WR-TIMEZONE:Europe/Paris
CALSCALE:GREGORIAN
X-WR-CALDESC:The calendar for arts, humanities and social sciences
METHOD:PUBLISH
BEGIN:VEVENT
DTSTART;VALUE=DATE:20151015
DTEND;VALUE=DATE:20151016
UID:340031-20151015@calenda.revues.org
SUMMARY:Entering the city
URL:https://calenda-formation.labocleo.org/340031
DESCRIPTION:Le colloque « Quand on arrive en ville. Espaces\, transports\, perceptions et représentations (XVIIIe-XXIe siècle) » est une initiative du projet de recherche MICM-arc. À travers la problématique de l’arrivée en ville\, de ses modalités\, des impressions… @plus_info https://calenda-formation.labocleo.org/340031
LOCATION:Brussels
END:VEVENT
BEGIN:VEVENT
DTSTART;VALUE=DATE:20151016
DTEND;VALUE=DATE:20151017
UID:340031-20151016@calenda.revues.org
SUMMARY:Entering the city
URL:https://calenda-formation.labocleo.org/340031
DESCRIPTION:Le colloque « Quand on arrive en ville. Espaces\, transports\, perceptions et représentations (XVIIIe-XXIe siècle) » est une initiative du projet de recherche MICM-arc. À travers la problématique de l’arrivée en ville\, de ses modalités\, des impressions… @plus_info https://calenda-formation.labocleo.org/340031
LOCATION:Brussels
END:VEVENT
END:VCALENDAR
