BEGIN:VCALENDAR
VERSION:2.0
PRODID:-//https://calenda-formation.labocleo.org
X-WR-CALNAME:Calenda
X-WR-TIMEZONE:Europe/Paris
CALSCALE:GREGORIAN
X-WR-CALDESC:O calendário de letras e de ciências sociais e humanas
METHOD:PUBLISH
BEGIN:VEVENT
DTSTART;VALUE=DATE:20151110
DTEND;VALUE=DATE:20151111
UID:340036-20151110@calenda.revues.org
SUMMARY:Defining and defying the concept of deviance and degeneration in the British Isles and North America in the 19th century
URL:https://calenda-formation.labocleo.org/340036
DESCRIPTION:This one-day conference aims at exploring the definition(s) and contours of deviance and degeneration as it was conceived in the British Isles and North America in the 19th century. PhD students\, postgraduate students and junior scholars whose resear… @plus_info https://calenda-formation.labocleo.org/340036
LOCATION:Lyon
END:VEVENT
END:VCALENDAR
