BEGIN:VCALENDAR
VERSION:2.0
PRODID:-//https://calenda-formation.labocleo.org
X-WR-CALNAME:Calenda
X-WR-TIMEZONE:Europe/Paris
CALSCALE:GREGORIAN
X-WR-CALDESC:O calendário de letras e de ciências sociais e humanas
METHOD:PUBLISH
BEGIN:VEVENT
DTSTART;VALUE=DATE:20151017
DTEND;VALUE=DATE:20151018
UID:340292-20151017@calenda.revues.org
SUMMARY:Historiographies antiques
URL:https://calenda-formation.labocleo.org/340292
DESCRIPTION:Le but de ce séminaire est de rassembler tous les chercheurs travaillant sur l'écriture de l'histoire dans l'Antiquité\, qu'ils soient littéraires\, historiens\, archéologues... Les séances auront lieu une fois par mois\, alternativement à Paris (École n… @plus_info https://calenda-formation.labocleo.org/340292
LOCATION:Paris\, Lyon
END:VEVENT
BEGIN:VEVENT
DTSTART;VALUE=DATE:20151110
DTEND;VALUE=DATE:20151111
UID:340292-20151110@calenda.revues.org
SUMMARY:Historiographies antiques
URL:https://calenda-formation.labocleo.org/340292
DESCRIPTION:Le but de ce séminaire est de rassembler tous les chercheurs travaillant sur l'écriture de l'histoire dans l'Antiquité\, qu'ils soient littéraires\, historiens\, archéologues... Les séances auront lieu une fois par mois\, alternativement à Paris (École n… @plus_info https://calenda-formation.labocleo.org/340292
LOCATION:Paris\, Lyon
END:VEVENT
BEGIN:VEVENT
DTSTART;VALUE=DATE:20151205
DTEND;VALUE=DATE:20151206
UID:340292-20151205@calenda.revues.org
SUMMARY:Historiographies antiques
URL:https://calenda-formation.labocleo.org/340292
DESCRIPTION:Le but de ce séminaire est de rassembler tous les chercheurs travaillant sur l'écriture de l'histoire dans l'Antiquité\, qu'ils soient littéraires\, historiens\, archéologues... Les séances auront lieu une fois par mois\, alternativement à Paris (École n… @plus_info https://calenda-formation.labocleo.org/340292
LOCATION:Paris\, Lyon
END:VEVENT
BEGIN:VEVENT
DTSTART;VALUE=DATE:20160119
DTEND;VALUE=DATE:20160120
UID:340292-20160119@calenda.revues.org
SUMMARY:Historiographies antiques
URL:https://calenda-formation.labocleo.org/340292
DESCRIPTION:Le but de ce séminaire est de rassembler tous les chercheurs travaillant sur l'écriture de l'histoire dans l'Antiquité\, qu'ils soient littéraires\, historiens\, archéologues... Les séances auront lieu une fois par mois\, alternativement à Paris (École n… @plus_info https://calenda-formation.labocleo.org/340292
LOCATION:Paris\, Lyon
END:VEVENT
BEGIN:VEVENT
DTSTART;VALUE=DATE:20160206
DTEND;VALUE=DATE:20160207
UID:340292-20160206@calenda.revues.org
SUMMARY:Historiographies antiques
URL:https://calenda-formation.labocleo.org/340292
DESCRIPTION:Le but de ce séminaire est de rassembler tous les chercheurs travaillant sur l'écriture de l'histoire dans l'Antiquité\, qu'ils soient littéraires\, historiens\, archéologues... Les séances auront lieu une fois par mois\, alternativement à Paris (École n… @plus_info https://calenda-formation.labocleo.org/340292
LOCATION:Paris\, Lyon
END:VEVENT
BEGIN:VEVENT
DTSTART;VALUE=DATE:20160329
DTEND;VALUE=DATE:20160330
UID:340292-20160329@calenda.revues.org
SUMMARY:Historiographies antiques
URL:https://calenda-formation.labocleo.org/340292
DESCRIPTION:Le but de ce séminaire est de rassembler tous les chercheurs travaillant sur l'écriture de l'histoire dans l'Antiquité\, qu'ils soient littéraires\, historiens\, archéologues... Les séances auront lieu une fois par mois\, alternativement à Paris (École n… @plus_info https://calenda-formation.labocleo.org/340292
LOCATION:Paris\, Lyon
END:VEVENT
BEGIN:VEVENT
DTSTART;VALUE=DATE:20160430
DTEND;VALUE=DATE:20160501
UID:340292-20160430@calenda.revues.org
SUMMARY:Historiographies antiques
URL:https://calenda-formation.labocleo.org/340292
DESCRIPTION:Le but de ce séminaire est de rassembler tous les chercheurs travaillant sur l'écriture de l'histoire dans l'Antiquité\, qu'ils soient littéraires\, historiens\, archéologues... Les séances auront lieu une fois par mois\, alternativement à Paris (École n… @plus_info https://calenda-formation.labocleo.org/340292
LOCATION:Paris\, Lyon
END:VEVENT
END:VCALENDAR
