BEGIN:VCALENDAR
VERSION:2.0
PRODID:-//https://calenda-formation.labocleo.org
X-WR-CALNAME:Calenda
X-WR-TIMEZONE:Europe/Paris
CALSCALE:GREGORIAN
X-WR-CALDESC:The calendar for arts, humanities and social sciences
METHOD:PUBLISH
BEGIN:VEVENT
DTSTART;VALUE=DATE:20151103
DTEND;VALUE=DATE:20151104
UID:340855-20151103@calenda.revues.org
SUMMARY:From Xenakis to the present day: the Continuum and its development in music and architecture
URL:https://calenda-formation.labocleo.org/340855
DESCRIPTION:Since Antiquity and the Middle Ages\, across all civilizations and religions\, the concept of continuum has fascinated thinkers. In the early XXth century\, the theory of relativity revolutionized our way of seeing the world as well as artistic discours… @plus_info https://calenda-formation.labocleo.org/340855
LOCATION:Darnétal\, Mont-Saint-Aignan
END:VEVENT
BEGIN:VEVENT
DTSTART;VALUE=DATE:20151104
DTEND;VALUE=DATE:20151105
UID:340855-20151104@calenda.revues.org
SUMMARY:From Xenakis to the present day: the Continuum and its development in music and architecture
URL:https://calenda-formation.labocleo.org/340855
DESCRIPTION:Since Antiquity and the Middle Ages\, across all civilizations and religions\, the concept of continuum has fascinated thinkers. In the early XXth century\, the theory of relativity revolutionized our way of seeing the world as well as artistic discours… @plus_info https://calenda-formation.labocleo.org/340855
LOCATION:Darnétal\, Mont-Saint-Aignan
END:VEVENT
END:VCALENDAR
