BEGIN:VCALENDAR
VERSION:2.0
PRODID:-//https://calenda-formation.labocleo.org
X-WR-CALNAME:Calenda
X-WR-TIMEZONE:Europe/Paris
CALSCALE:GREGORIAN
X-WR-CALDESC:Le calendrier des lettres et sciences humaines et sociales
METHOD:PUBLISH
BEGIN:VEVENT
DTSTART;VALUE=DATE:20151123
DTEND;VALUE=DATE:20151124
UID:341038-20151123@calenda.revues.org
SUMMARY:L’histoire extra-muros : des frontières qui s’élargissent
URL:https://calenda-formation.labocleo.org/341038
DESCRIPTION:Les 25 et 26 février 2016 se tiendra à l’Université de Sherbrooke le neuvième colloque des étudiants en histoire de l’université de Sherbrooke. Le thème de cette édition s’articulera autour de la place des approches émergentes et de l’interdisciplina… @plus_info https://calenda-formation.labocleo.org/341038
LOCATION:Sherbrooke
END:VEVENT
END:VCALENDAR
