BEGIN:VCALENDAR
VERSION:2.0
PRODID:-//https://calenda-formation.labocleo.org
X-WR-CALNAME:Calenda
X-WR-TIMEZONE:Europe/Paris
CALSCALE:GREGORIAN
X-WR-CALDESC:The calendar for arts, humanities and social sciences
METHOD:PUBLISH
BEGIN:VEVENT
DTSTART;VALUE=DATE:20151125
DTEND;VALUE=DATE:20151126
UID:341049-20151125@calenda.revues.org
SUMMARY:Thinking the history of the media
URL:https://calenda-formation.labocleo.org/341049
DESCRIPTION:Ce premier Congrès de la société pour l’histoire des médias (SPHM) se donne pour objectif de réunir des chercheuses et chercheurs français et étrangers\, juniors ou confirmés\, historiens ou spécialistes d’autres disciplines\, autour d’un champ d’études… @plus_info https://calenda-formation.labocleo.org/341049
LOCATION:Versailles\, Saint-Quentin-en-Yvelines
END:VEVENT
END:VCALENDAR
