BEGIN:VCALENDAR
VERSION:2.0
PRODID:-//https://calenda-formation.labocleo.org
X-WR-CALNAME:Calenda
X-WR-TIMEZONE:Europe/Paris
CALSCALE:GREGORIAN
X-WR-CALDESC:Le calendrier des lettres et sciences humaines et sociales
METHOD:PUBLISH
BEGIN:VEVENT
DTSTART;VALUE=DATE:20151022
DTEND;VALUE=DATE:20151023
UID:341228-20151022@calenda.revues.org
SUMMARY:Migrations et mobilités\, quels regards aujourd'hui dans les sciences humaines et sociales ?
URL:https://calenda-formation.labocleo.org/341228
DESCRIPTION:Le réseau thématique de recheche sur les migrations en Méditerranée (MIMED) de la Maison méditerranéenne des sciences de l'Homme entend dans une perspective interdisciplinaire interroger la question de la circulation comme une dynamique temporelle af… Más informaciones https://calenda-formation.labocleo.org/341228
LOCATION:Aix-en-Provence
END:VEVENT
END:VCALENDAR
