BEGIN:VCALENDAR
VERSION:2.0
PRODID:-//https://calenda-formation.labocleo.org
X-WR-CALNAME:Calenda
X-WR-TIMEZONE:Europe/Paris
CALSCALE:GREGORIAN
X-WR-CALDESC:Le calendrier des lettres et sciences humaines et sociales
METHOD:PUBLISH
BEGIN:VEVENT
DTSTART;VALUE=DATE:20151016
DTEND;VALUE=DATE:20151017
UID:341469-20151016@calenda.revues.org
SUMMARY:Shifting Terrain: Mapping a Transnational American Art History
URL:https://calenda-formation.labocleo.org/341469
DESCRIPTION:The increasing internationalization of the study of American art has altered the topography of the discipline in ways that are widely acknowledged but not yet clearly defined. This two-day event will map out the changes that are occurring in the fiel… Más informaciones https://calenda-formation.labocleo.org/341469
LOCATION:Washington
END:VEVENT
BEGIN:VEVENT
DTSTART;VALUE=DATE:20151017
DTEND;VALUE=DATE:20151018
UID:341469-20151017@calenda.revues.org
SUMMARY:Shifting Terrain: Mapping a Transnational American Art History
URL:https://calenda-formation.labocleo.org/341469
DESCRIPTION:The increasing internationalization of the study of American art has altered the topography of the discipline in ways that are widely acknowledged but not yet clearly defined. This two-day event will map out the changes that are occurring in the fiel… Más informaciones https://calenda-formation.labocleo.org/341469
LOCATION:Washington
END:VEVENT
END:VCALENDAR
