BEGIN:VCALENDAR
VERSION:2.0
PRODID:-//https://calenda-formation.labocleo.org
X-WR-CALNAME:Calenda
X-WR-TIMEZONE:Europe/Paris
CALSCALE:GREGORIAN
X-WR-CALDESC:Le calendrier des lettres et sciences humaines et sociales
METHOD:PUBLISH
BEGIN:VEVENT
DTSTART;VALUE=DATE:20151009
DTEND;VALUE=DATE:20151010
UID:341918-20151009@calenda.revues.org
SUMMARY:Les intérieurs de l'homme de lettres en vitrine : la vie littéraire sous l'angle du mobilier et de l'immobilier
URL:https://calenda-formation.labocleo.org/341918
DESCRIPTION: Dans son dernier ouvragesur la célébrité moderne\, Antoine Lilti fait remarquer que « la curiosité qu[e la célébrité] suscite porte avec une vivacité particulière sur la vie privée des personnes célèbres\, devenue l’objet de l’attention collective ». … @plus_info https://calenda-formation.labocleo.org/341918
LOCATION:Paris
END:VEVENT
END:VCALENDAR
