BEGIN:VCALENDAR
VERSION:2.0
PRODID:-//https://calenda-formation.labocleo.org
X-WR-CALNAME:Calenda
X-WR-TIMEZONE:Europe/Paris
CALSCALE:GREGORIAN
X-WR-CALDESC:The calendar for arts, humanities and social sciences
METHOD:PUBLISH
BEGIN:VEVENT
DTSTART;VALUE=DATE:20160115
DTEND;VALUE=DATE:20160116
UID:342063-20160115@calenda.revues.org
SUMMARY:Questioning self-medication
URL:https://calenda-formation.labocleo.org/342063
DESCRIPTION:Treating oneself is a controversial practice: scorned in the name of the health risks it runs\, self-treatment may also be praised in the name of the independence it expresses. The messages of public health authorities are at the heart of the controve… @plus_info https://calenda-formation.labocleo.org/342063
LOCATION:Nantes
END:VEVENT
END:VCALENDAR
