BEGIN:VCALENDAR
VERSION:2.0
PRODID:-//https://calenda-formation.labocleo.org
X-WR-CALNAME:Calenda
X-WR-TIMEZONE:Europe/Paris
CALSCALE:GREGORIAN
X-WR-CALDESC:Le calendrier des lettres et sciences humaines et sociales
METHOD:PUBLISH
BEGIN:VEVENT
DTSTART;VALUE=DATE:20151130
DTEND;VALUE=DATE:20151201
UID:342119-20151130@calenda.revues.org
SUMMARY:Language Learning and Ethnographic Fieldwork
URL:https://calenda-formation.labocleo.org/342119
DESCRIPTION:Learning a new language or working in a second or third language is a crucial aspect of carrying out ethnographic fieldwork. The workshop aims to provide an opportunity for researchers at all career stages to discuss a wide range of issues relating t… Weitere Informationen https://calenda-formation.labocleo.org/342119
LOCATION:Glasgow
END:VEVENT
END:VCALENDAR
