BEGIN:VCALENDAR
VERSION:2.0
PRODID:-//https://calenda-formation.labocleo.org
X-WR-CALNAME:Calenda
X-WR-TIMEZONE:Europe/Paris
CALSCALE:GREGORIAN
X-WR-CALDESC:The calendar for arts, humanities and social sciences
METHOD:PUBLISH
BEGIN:VEVENT
DTSTART;VALUE=DATE:20151110
DTEND;VALUE=DATE:20151111
UID:342493-20151110@calenda.revues.org
SUMMARY:Innovation\, creativity and culture: outline of a new socio-economic post-crisis model
URL:https://calenda-formation.labocleo.org/342493
DESCRIPTION:This International Conference\, open to all researchers and practitioners\, will serve as the closure of the research national Spanish project Innova. This coordinated project combines different disciplinary and territorial sensitivities addressing the… @plus_info https://calenda-formation.labocleo.org/342493
LOCATION:Barcelona
END:VEVENT
END:VCALENDAR
