BEGIN:VCALENDAR
VERSION:2.0
PRODID:-//https://calenda-formation.labocleo.org
X-WR-CALNAME:Calenda
X-WR-TIMEZONE:Europe/Paris
CALSCALE:GREGORIAN
X-WR-CALDESC:The calendar for arts, humanities and social sciences
METHOD:PUBLISH
BEGIN:VEVENT
DTSTART;VALUE=DATE:20160114
DTEND;VALUE=DATE:20160115
UID:342612-20160114@calenda.revues.org
SUMMARY:Identity discomfort and de-institutionalisation
URL:https://calenda-formation.labocleo.org/342612
DESCRIPTION:Le « malaise identitaire » que l’actualité met parfois en relief dans les différents secteurs de la société est intimement lié à des processus de mutation institutionnels et sociétaux. Telle est l’hypothèse que nous discuterons avec R. Kaës durant ce… @plus_info https://calenda-formation.labocleo.org/342612
LOCATION:Besançon
END:VEVENT
BEGIN:VEVENT
DTSTART;VALUE=DATE:20160115
DTEND;VALUE=DATE:20160116
UID:342612-20160115@calenda.revues.org
SUMMARY:Identity discomfort and de-institutionalisation
URL:https://calenda-formation.labocleo.org/342612
DESCRIPTION:Le « malaise identitaire » que l’actualité met parfois en relief dans les différents secteurs de la société est intimement lié à des processus de mutation institutionnels et sociétaux. Telle est l’hypothèse que nous discuterons avec R. Kaës durant ce… @plus_info https://calenda-formation.labocleo.org/342612
LOCATION:Besançon
END:VEVENT
BEGIN:VEVENT
DTSTART;VALUE=DATE:20160116
DTEND;VALUE=DATE:20160117
UID:342612-20160116@calenda.revues.org
SUMMARY:Identity discomfort and de-institutionalisation
URL:https://calenda-formation.labocleo.org/342612
DESCRIPTION:Le « malaise identitaire » que l’actualité met parfois en relief dans les différents secteurs de la société est intimement lié à des processus de mutation institutionnels et sociétaux. Telle est l’hypothèse que nous discuterons avec R. Kaës durant ce… @plus_info https://calenda-formation.labocleo.org/342612
LOCATION:Besançon
END:VEVENT
END:VCALENDAR
