BEGIN:VCALENDAR
VERSION:2.0
PRODID:-//https://calenda-formation.labocleo.org
X-WR-CALNAME:Calenda
X-WR-TIMEZONE:Europe/Paris
CALSCALE:GREGORIAN
X-WR-CALDESC:O calendário de letras e de ciências sociais e humanas
METHOD:PUBLISH
BEGIN:VEVENT
DTSTART;VALUE=DATE:20151106
DTEND;VALUE=DATE:20151107
UID:343147-20151106@calenda.revues.org
SUMMARY:Vie et survie à l’intérieur et à l’extérieur du Venezuela contemporain
URL:https://calenda-formation.labocleo.org/343147
DESCRIPTION:Depuis la colonisation espagnole jusqu’à la « Revolución Bolivariana »\, perpétuée par le président Nicolás Maduro (2013)\, en passant par le processus de démocratisation et le développement d’une économie rentière et distributive\, la population vénézu… @plus_info https://calenda-formation.labocleo.org/343147
LOCATION:Paris
END:VEVENT
END:VCALENDAR
