BEGIN:VCALENDAR
VERSION:2.0
PRODID:-//https://calenda-formation.labocleo.org
X-WR-CALNAME:Calenda
X-WR-TIMEZONE:Europe/Paris
CALSCALE:GREGORIAN
X-WR-CALDESC:Le calendrier des lettres et sciences humaines et sociales
METHOD:PUBLISH
BEGIN:VEVENT
DTSTART;VALUE=DATE:20151104
DTEND;VALUE=DATE:20151105
UID:343469-20151104@calenda.revues.org
SUMMARY:Penser le genre dans la péninsule Ibérique au Moyen Âge
URL:https://calenda-formation.labocleo.org/343469
DESCRIPTION:Après un troisième volet sur l'amour\, l'atelier Theorica se propose\, en réunissant de grands médiévistes et des doctorants\, d'explorer le domaine des discours sur le genre. Dans quelle mesure le Moyen Âge hispanique a-t-il produit des discours théori… Más informaciones https://calenda-formation.labocleo.org/343469
LOCATION:Lyon
END:VEVENT
BEGIN:VEVENT
DTSTART;VALUE=DATE:20151105
DTEND;VALUE=DATE:20151106
UID:343469-20151105@calenda.revues.org
SUMMARY:Penser le genre dans la péninsule Ibérique au Moyen Âge
URL:https://calenda-formation.labocleo.org/343469
DESCRIPTION:Après un troisième volet sur l'amour\, l'atelier Theorica se propose\, en réunissant de grands médiévistes et des doctorants\, d'explorer le domaine des discours sur le genre. Dans quelle mesure le Moyen Âge hispanique a-t-il produit des discours théori… Más informaciones https://calenda-formation.labocleo.org/343469
LOCATION:Lyon
END:VEVENT
END:VCALENDAR
