BEGIN:VCALENDAR
VERSION:2.0
PRODID:-//https://calenda-formation.labocleo.org
X-WR-CALNAME:Calenda
X-WR-TIMEZONE:Europe/Paris
CALSCALE:GREGORIAN
X-WR-CALDESC:O calendário de letras e de ciências sociais e humanas
METHOD:PUBLISH
BEGIN:VEVENT
DTSTART;VALUE=DATE:20160104
DTEND;VALUE=DATE:20160105
UID:343548-20160104@calenda.revues.org
SUMMARY:Au tournant de l'expérience
URL:https://calenda-formation.labocleo.org/343548
DESCRIPTION:À l'occasion de ce colloque\, il est question de poser l'hypothèse que l'architecture peut se définir comme mode d'enquête pour une nouvelle expérience du monde. Parce qu'elle donne accès avec une grande précision aux modalités de l'expérience du mond… @plus_info https://calenda-formation.labocleo.org/343548
LOCATION:Paris
END:VEVENT
END:VCALENDAR
