BEGIN:VCALENDAR
VERSION:2.0
PRODID:-//https://calenda-formation.labocleo.org
X-WR-CALNAME:Calenda
X-WR-TIMEZONE:Europe/Paris
CALSCALE:GREGORIAN
X-WR-CALDESC:Le calendrier des lettres et sciences humaines et sociales
METHOD:PUBLISH
BEGIN:VEVENT
DTSTART;VALUE=DATE:20160131
DTEND;VALUE=DATE:20160201
UID:343685-20160131@calenda.revues.org
SUMMARY:Prix Françoise Tétard
URL:https://calenda-formation.labocleo.org/343685
DESCRIPTION:Le prix Françoise Tétard est conjointement créé par l’Association pour l’histoire de la protection judiciaire des mineurs (AHPJM)\, le Conservatoire national des archives et de l’histoire de l’éducation spécialisée et de l’action sociale (CNAHES)\, en … Weitere Informationen https://calenda-formation.labocleo.org/343685
LOCATION:Paris
END:VEVENT
END:VCALENDAR
