BEGIN:VCALENDAR
VERSION:2.0
PRODID:-//https://calenda-formation.labocleo.org
X-WR-CALNAME:Calenda
X-WR-TIMEZONE:Europe/Paris
CALSCALE:GREGORIAN
X-WR-CALDESC:Le calendrier des lettres et sciences humaines et sociales
METHOD:PUBLISH
BEGIN:VEVENT
DTSTART;VALUE=DATE:20151218
DTEND;VALUE=DATE:20151219
UID:343836-20151218@calenda.revues.org
SUMMARY:Le statut du magistrat
URL:https://calenda-formation.labocleo.org/343836
DESCRIPTION:Le statut du magistrat soulève de multiples questions dans les droits contemporains européens. Qu'il s'agisse de l'accès aux fonctions\, de la détermination des droits et obligations ou des marges de manoeuvre du magistrat\, le thème suscite la controv… @plus_info https://calenda-formation.labocleo.org/343836
LOCATION:Paris
END:VEVENT
END:VCALENDAR
