BEGIN:VCALENDAR
VERSION:2.0
PRODID:-//https://calenda-formation.labocleo.org
X-WR-CALNAME:Calenda
X-WR-TIMEZONE:Europe/Paris
CALSCALE:GREGORIAN
X-WR-CALDESC:The calendar for arts, humanities and social sciences
METHOD:PUBLISH
BEGIN:VEVENT
DTSTART;VALUE=DATE:20151116
DTEND;VALUE=DATE:20151117
UID:344319-20151116@calenda.revues.org
SUMMARY:Bossuet in context: philosophy\, history and politics
URL:https://calenda-formation.labocleo.org/344319
DESCRIPTION:Ce colloque se tient dans le cadre d'un projet soutenu par l'Institut d'études avancées de l'université de Strasbourg : « Bossuet écrivain\, intellectuel et penseur politique dans le contexte de son temps » (Gérard Ferreyrolles\, Hans-Christian Günther… @plus_info https://calenda-formation.labocleo.org/344319
LOCATION:Strasbourg
END:VEVENT
END:VCALENDAR
