BEGIN:VCALENDAR
VERSION:2.0
PRODID:-//https://calenda-formation.labocleo.org
X-WR-CALNAME:Calenda
X-WR-TIMEZONE:Europe/Paris
CALSCALE:GREGORIAN
X-WR-CALDESC:Le calendrier des lettres et sciences humaines et sociales
METHOD:PUBLISH
BEGIN:VEVENT
DTSTART;VALUE=DATE:20151113
DTEND;VALUE=DATE:20151114
UID:344607-20151113@calenda.revues.org
SUMMARY:Repenser la probité : philosophie politique\, démocratie et éthique publique 
URL:https://calenda-formation.labocleo.org/344607
DESCRIPTION:Il s'agit\, dans cette journée d'étude\, de préciser la contribution de la philosophie politique à l’analyse de l’éthique publique\, en concentrant l'attention sur la notion de probité. Nous proposons d'examiner à quelles conditions il serait possible d… @plus_info https://calenda-formation.labocleo.org/344607
LOCATION:Grenoble
END:VEVENT
END:VCALENDAR
