BEGIN:VCALENDAR
VERSION:2.0
PRODID:-//https://calenda-formation.labocleo.org
X-WR-CALNAME:Calenda
X-WR-TIMEZONE:Europe/Paris
CALSCALE:GREGORIAN
X-WR-CALDESC:The calendar for arts, humanities and social sciences
METHOD:PUBLISH
BEGIN:VEVENT
DTSTART;VALUE=DATE:20160115
DTEND;VALUE=DATE:20160116
UID:344707-20160115@calenda.revues.org
SUMMARY:The dead and tombs (16th-21st centuries)
URL:https://calenda-formation.labocleo.org/344707
DESCRIPTION:Rendre à la mort la place qui lui revient dans l’histoire des diasporas permet de penser à nouveaux frais à la fois l’humanité même des parcours migratoires\, et l’ensemble des constructions contingentes (à la fois juridiques\, politiques et économique… @plus_info https://calenda-formation.labocleo.org/344707
LOCATION:Toulouse
END:VEVENT
END:VCALENDAR
