BEGIN:VCALENDAR
VERSION:2.0
PRODID:-//https://calenda-formation.labocleo.org
X-WR-CALNAME:Calenda
X-WR-TIMEZONE:Europe/Paris
CALSCALE:GREGORIAN
X-WR-CALDESC:The calendar for arts, humanities and social sciences
METHOD:PUBLISH
BEGIN:VEVENT
DTSTART;VALUE=DATE:20151215
DTEND;VALUE=DATE:20151216
UID:345317-20151215@calenda.revues.org
SUMMARY:The digital humanities and ITC sciences
URL:https://calenda-formation.labocleo.org/345317
DESCRIPTION:La visée de ce dossier est de décrire le carrefour entre sciences de l'informations et de la communication (SIC) et humanités numériques\, souhaitant interroger ce qu’ont produit de spécifique les SIC sur les questions abordées par les chercheurs se r… @plus_info https://calenda-formation.labocleo.org/345317
LOCATION:
END:VEVENT
END:VCALENDAR
