BEGIN:VCALENDAR
VERSION:2.0
PRODID:-//https://calenda-formation.labocleo.org
X-WR-CALNAME:Calenda
X-WR-TIMEZONE:Europe/Paris
CALSCALE:GREGORIAN
X-WR-CALDESC:O calendário de letras e de ciências sociais e humanas
METHOD:PUBLISH
BEGIN:VEVENT
DTSTART;VALUE=DATE:20151105
DTEND;VALUE=DATE:20151106
UID:345578-20151105@calenda.revues.org
SUMMARY:La culture rhétorique des poètes augustéens
URL:https://calenda-formation.labocleo.org/345578
DESCRIPTION:Ce colloque constitue le premier volet d’un triptyque intitulé « La poésie de l’époque d’Auguste et la rhétorique »\, dont l’objet est d’explorer dans tous ses aspects la relation d’influence réciproque entre la poésie augustéenne et le champ rhétoriq… @plus_info https://calenda-formation.labocleo.org/345578
LOCATION:Clermont-Ferrand
END:VEVENT
BEGIN:VEVENT
DTSTART;VALUE=DATE:20151106
DTEND;VALUE=DATE:20151107
UID:345578-20151106@calenda.revues.org
SUMMARY:La culture rhétorique des poètes augustéens
URL:https://calenda-formation.labocleo.org/345578
DESCRIPTION:Ce colloque constitue le premier volet d’un triptyque intitulé « La poésie de l’époque d’Auguste et la rhétorique »\, dont l’objet est d’explorer dans tous ses aspects la relation d’influence réciproque entre la poésie augustéenne et le champ rhétoriq… @plus_info https://calenda-formation.labocleo.org/345578
LOCATION:Clermont-Ferrand
END:VEVENT
END:VCALENDAR
