BEGIN:VCALENDAR
VERSION:2.0
PRODID:-//https://calenda-formation.labocleo.org
X-WR-CALNAME:Calenda
X-WR-TIMEZONE:Europe/Paris
CALSCALE:GREGORIAN
X-WR-CALDESC:Le calendrier des lettres et sciences humaines et sociales
METHOD:PUBLISH
BEGIN:VEVENT
DTSTART;VALUE=DATE:20151110
DTEND;VALUE=DATE:20151111
UID:345712-20151110@calenda.revues.org
SUMMARY:Genre\, corps et sexualité dans l’espace (post-)ottoman
URL:https://calenda-formation.labocleo.org/345712
DESCRIPTION:Organisé avec le soutien du groupement d'intérêt scientifique Institut du genre\, ce cycle de séminaires vise à analyser le rôle que l’Empire ottoman – comme entité socio-politique réelle\, fantasme dont il faut prendre les distances\, ou bien source d’… Más informaciones https://calenda-formation.labocleo.org/345712
LOCATION:París
END:VEVENT
BEGIN:VEVENT
DTSTART;VALUE=DATE:20151208
DTEND;VALUE=DATE:20151209
UID:345712-20151208@calenda.revues.org
SUMMARY:Genre\, corps et sexualité dans l’espace (post-)ottoman
URL:https://calenda-formation.labocleo.org/345712
DESCRIPTION:Organisé avec le soutien du groupement d'intérêt scientifique Institut du genre\, ce cycle de séminaires vise à analyser le rôle que l’Empire ottoman – comme entité socio-politique réelle\, fantasme dont il faut prendre les distances\, ou bien source d’… Más informaciones https://calenda-formation.labocleo.org/345712
LOCATION:París
END:VEVENT
BEGIN:VEVENT
DTSTART;VALUE=DATE:20151209
DTEND;VALUE=DATE:20151210
UID:345712-20151209@calenda.revues.org
SUMMARY:Genre\, corps et sexualité dans l’espace (post-)ottoman
URL:https://calenda-formation.labocleo.org/345712
DESCRIPTION:Organisé avec le soutien du groupement d'intérêt scientifique Institut du genre\, ce cycle de séminaires vise à analyser le rôle que l’Empire ottoman – comme entité socio-politique réelle\, fantasme dont il faut prendre les distances\, ou bien source d’… Más informaciones https://calenda-formation.labocleo.org/345712
LOCATION:París
END:VEVENT
BEGIN:VEVENT
DTSTART;VALUE=DATE:20151211
DTEND;VALUE=DATE:20151212
UID:345712-20151211@calenda.revues.org
SUMMARY:Genre\, corps et sexualité dans l’espace (post-)ottoman
URL:https://calenda-formation.labocleo.org/345712
DESCRIPTION:Organisé avec le soutien du groupement d'intérêt scientifique Institut du genre\, ce cycle de séminaires vise à analyser le rôle que l’Empire ottoman – comme entité socio-politique réelle\, fantasme dont il faut prendre les distances\, ou bien source d’… Más informaciones https://calenda-formation.labocleo.org/345712
LOCATION:París
END:VEVENT
BEGIN:VEVENT
DTSTART;VALUE=DATE:20160112
DTEND;VALUE=DATE:20160113
UID:345712-20160112@calenda.revues.org
SUMMARY:Genre\, corps et sexualité dans l’espace (post-)ottoman
URL:https://calenda-formation.labocleo.org/345712
DESCRIPTION:Organisé avec le soutien du groupement d'intérêt scientifique Institut du genre\, ce cycle de séminaires vise à analyser le rôle que l’Empire ottoman – comme entité socio-politique réelle\, fantasme dont il faut prendre les distances\, ou bien source d’… Más informaciones https://calenda-formation.labocleo.org/345712
LOCATION:París
END:VEVENT
BEGIN:VEVENT
DTSTART;VALUE=DATE:20160209
DTEND;VALUE=DATE:20160210
UID:345712-20160209@calenda.revues.org
SUMMARY:Genre\, corps et sexualité dans l’espace (post-)ottoman
URL:https://calenda-formation.labocleo.org/345712
DESCRIPTION:Organisé avec le soutien du groupement d'intérêt scientifique Institut du genre\, ce cycle de séminaires vise à analyser le rôle que l’Empire ottoman – comme entité socio-politique réelle\, fantasme dont il faut prendre les distances\, ou bien source d’… Más informaciones https://calenda-formation.labocleo.org/345712
LOCATION:París
END:VEVENT
BEGIN:VEVENT
DTSTART;VALUE=DATE:20160210
DTEND;VALUE=DATE:20160211
UID:345712-20160210@calenda.revues.org
SUMMARY:Genre\, corps et sexualité dans l’espace (post-)ottoman
URL:https://calenda-formation.labocleo.org/345712
DESCRIPTION:Organisé avec le soutien du groupement d'intérêt scientifique Institut du genre\, ce cycle de séminaires vise à analyser le rôle que l’Empire ottoman – comme entité socio-politique réelle\, fantasme dont il faut prendre les distances\, ou bien source d’… Más informaciones https://calenda-formation.labocleo.org/345712
LOCATION:París
END:VEVENT
END:VCALENDAR
