BEGIN:VCALENDAR
VERSION:2.0
PRODID:-//https://calenda-formation.labocleo.org
X-WR-CALNAME:Calenda
X-WR-TIMEZONE:Europe/Paris
CALSCALE:GREGORIAN
X-WR-CALDESC:The calendar for arts, humanities and social sciences
METHOD:PUBLISH
BEGIN:VEVENT
DTSTART;VALUE=DATE:20151217
DTEND;VALUE=DATE:20151218
UID:345802-20151217@calenda.revues.org
SUMMARY:Gender(s) - definitions\, models\, epistemologies
URL:https://calenda-formation.labocleo.org/345802
DESCRIPTION:Né en 2014 de la collaboration d’une trentaine d’étudiant∙e∙s de master et de doctorat inscrit∙e∙s dans des disciplines variées des sciences humaines et sociales et des sciences expérimentales\, le laboratoire junior GenERe (Genre : Epistémologie et R… @plus_info https://calenda-formation.labocleo.org/345802
LOCATION:Lyon
END:VEVENT
BEGIN:VEVENT
DTSTART;VALUE=DATE:20151218
DTEND;VALUE=DATE:20151219
UID:345802-20151218@calenda.revues.org
SUMMARY:Gender(s) - definitions\, models\, epistemologies
URL:https://calenda-formation.labocleo.org/345802
DESCRIPTION:Né en 2014 de la collaboration d’une trentaine d’étudiant∙e∙s de master et de doctorat inscrit∙e∙s dans des disciplines variées des sciences humaines et sociales et des sciences expérimentales\, le laboratoire junior GenERe (Genre : Epistémologie et R… @plus_info https://calenda-formation.labocleo.org/345802
LOCATION:Lyon
END:VEVENT
END:VCALENDAR
