BEGIN:VCALENDAR
VERSION:2.0
PRODID:-//https://calenda-formation.labocleo.org
X-WR-CALNAME:Calenda
X-WR-TIMEZONE:Europe/Paris
CALSCALE:GREGORIAN
X-WR-CALDESC:Le calendrier des lettres et sciences humaines et sociales
METHOD:PUBLISH
BEGIN:VEVENT
DTSTART;VALUE=DATE:20151110
DTEND;VALUE=DATE:20151111
UID:346081-20151110@calenda.revues.org
SUMMARY:Histoire et techniques du management et du gouvernement
URL:https://calenda-formation.labocleo.org/346081
DESCRIPTION:Ce séminaire présente un tableau de diverses démarches (histoire\, sociologie\, gestion...) mobilisées pour l'étude du management et du gouvernement. Il aborde les organisations et le gouvernement sous un angle particulier. Il les envisage comme des pr… Más informaciones https://calenda-formation.labocleo.org/346081
LOCATION:París
END:VEVENT
BEGIN:VEVENT
DTSTART;VALUE=DATE:20151117
DTEND;VALUE=DATE:20151118
UID:346081-20151117@calenda.revues.org
SUMMARY:Histoire et techniques du management et du gouvernement
URL:https://calenda-formation.labocleo.org/346081
DESCRIPTION:Ce séminaire présente un tableau de diverses démarches (histoire\, sociologie\, gestion...) mobilisées pour l'étude du management et du gouvernement. Il aborde les organisations et le gouvernement sous un angle particulier. Il les envisage comme des pr… Más informaciones https://calenda-formation.labocleo.org/346081
LOCATION:París
END:VEVENT
BEGIN:VEVENT
DTSTART;VALUE=DATE:20151124
DTEND;VALUE=DATE:20151125
UID:346081-20151124@calenda.revues.org
SUMMARY:Histoire et techniques du management et du gouvernement
URL:https://calenda-formation.labocleo.org/346081
DESCRIPTION:Ce séminaire présente un tableau de diverses démarches (histoire\, sociologie\, gestion...) mobilisées pour l'étude du management et du gouvernement. Il aborde les organisations et le gouvernement sous un angle particulier. Il les envisage comme des pr… Más informaciones https://calenda-formation.labocleo.org/346081
LOCATION:París
END:VEVENT
BEGIN:VEVENT
DTSTART;VALUE=DATE:20151201
DTEND;VALUE=DATE:20151202
UID:346081-20151201@calenda.revues.org
SUMMARY:Histoire et techniques du management et du gouvernement
URL:https://calenda-formation.labocleo.org/346081
DESCRIPTION:Ce séminaire présente un tableau de diverses démarches (histoire\, sociologie\, gestion...) mobilisées pour l'étude du management et du gouvernement. Il aborde les organisations et le gouvernement sous un angle particulier. Il les envisage comme des pr… Más informaciones https://calenda-formation.labocleo.org/346081
LOCATION:París
END:VEVENT
BEGIN:VEVENT
DTSTART;VALUE=DATE:20151208
DTEND;VALUE=DATE:20151209
UID:346081-20151208@calenda.revues.org
SUMMARY:Histoire et techniques du management et du gouvernement
URL:https://calenda-formation.labocleo.org/346081
DESCRIPTION:Ce séminaire présente un tableau de diverses démarches (histoire\, sociologie\, gestion...) mobilisées pour l'étude du management et du gouvernement. Il aborde les organisations et le gouvernement sous un angle particulier. Il les envisage comme des pr… Más informaciones https://calenda-formation.labocleo.org/346081
LOCATION:París
END:VEVENT
BEGIN:VEVENT
DTSTART;VALUE=DATE:20151215
DTEND;VALUE=DATE:20151216
UID:346081-20151215@calenda.revues.org
SUMMARY:Histoire et techniques du management et du gouvernement
URL:https://calenda-formation.labocleo.org/346081
DESCRIPTION:Ce séminaire présente un tableau de diverses démarches (histoire\, sociologie\, gestion...) mobilisées pour l'étude du management et du gouvernement. Il aborde les organisations et le gouvernement sous un angle particulier. Il les envisage comme des pr… Más informaciones https://calenda-formation.labocleo.org/346081
LOCATION:París
END:VEVENT
BEGIN:VEVENT
DTSTART;VALUE=DATE:20160105
DTEND;VALUE=DATE:20160106
UID:346081-20160105@calenda.revues.org
SUMMARY:Histoire et techniques du management et du gouvernement
URL:https://calenda-formation.labocleo.org/346081
DESCRIPTION:Ce séminaire présente un tableau de diverses démarches (histoire\, sociologie\, gestion...) mobilisées pour l'étude du management et du gouvernement. Il aborde les organisations et le gouvernement sous un angle particulier. Il les envisage comme des pr… Más informaciones https://calenda-formation.labocleo.org/346081
LOCATION:París
END:VEVENT
BEGIN:VEVENT
DTSTART;VALUE=DATE:20160112
DTEND;VALUE=DATE:20160113
UID:346081-20160112@calenda.revues.org
SUMMARY:Histoire et techniques du management et du gouvernement
URL:https://calenda-formation.labocleo.org/346081
DESCRIPTION:Ce séminaire présente un tableau de diverses démarches (histoire\, sociologie\, gestion...) mobilisées pour l'étude du management et du gouvernement. Il aborde les organisations et le gouvernement sous un angle particulier. Il les envisage comme des pr… Más informaciones https://calenda-formation.labocleo.org/346081
LOCATION:París
END:VEVENT
BEGIN:VEVENT
DTSTART;VALUE=DATE:20160119
DTEND;VALUE=DATE:20160120
UID:346081-20160119@calenda.revues.org
SUMMARY:Histoire et techniques du management et du gouvernement
URL:https://calenda-formation.labocleo.org/346081
DESCRIPTION:Ce séminaire présente un tableau de diverses démarches (histoire\, sociologie\, gestion...) mobilisées pour l'étude du management et du gouvernement. Il aborde les organisations et le gouvernement sous un angle particulier. Il les envisage comme des pr… Más informaciones https://calenda-formation.labocleo.org/346081
LOCATION:París
END:VEVENT
BEGIN:VEVENT
DTSTART;VALUE=DATE:20160126
DTEND;VALUE=DATE:20160127
UID:346081-20160126@calenda.revues.org
SUMMARY:Histoire et techniques du management et du gouvernement
URL:https://calenda-formation.labocleo.org/346081
DESCRIPTION:Ce séminaire présente un tableau de diverses démarches (histoire\, sociologie\, gestion...) mobilisées pour l'étude du management et du gouvernement. Il aborde les organisations et le gouvernement sous un angle particulier. Il les envisage comme des pr… Más informaciones https://calenda-formation.labocleo.org/346081
LOCATION:París
END:VEVENT
BEGIN:VEVENT
DTSTART;VALUE=DATE:20160202
DTEND;VALUE=DATE:20160203
UID:346081-20160202@calenda.revues.org
SUMMARY:Histoire et techniques du management et du gouvernement
URL:https://calenda-formation.labocleo.org/346081
DESCRIPTION:Ce séminaire présente un tableau de diverses démarches (histoire\, sociologie\, gestion...) mobilisées pour l'étude du management et du gouvernement. Il aborde les organisations et le gouvernement sous un angle particulier. Il les envisage comme des pr… Más informaciones https://calenda-formation.labocleo.org/346081
LOCATION:París
END:VEVENT
BEGIN:VEVENT
DTSTART;VALUE=DATE:20160209
DTEND;VALUE=DATE:20160210
UID:346081-20160209@calenda.revues.org
SUMMARY:Histoire et techniques du management et du gouvernement
URL:https://calenda-formation.labocleo.org/346081
DESCRIPTION:Ce séminaire présente un tableau de diverses démarches (histoire\, sociologie\, gestion...) mobilisées pour l'étude du management et du gouvernement. Il aborde les organisations et le gouvernement sous un angle particulier. Il les envisage comme des pr… Más informaciones https://calenda-formation.labocleo.org/346081
LOCATION:París
END:VEVENT
END:VCALENDAR
