BEGIN:VCALENDAR
VERSION:2.0
PRODID:-//https://calenda-formation.labocleo.org
X-WR-CALNAME:Calenda
X-WR-TIMEZONE:Europe/Paris
CALSCALE:GREGORIAN
X-WR-CALDESC:The calendar for arts, humanities and social sciences
METHOD:PUBLISH
BEGIN:VEVENT
DTSTART;VALUE=DATE:20151127
DTEND;VALUE=DATE:20151128
UID:346217-20151127@calenda.revues.org
SUMMARY:Internet and external agregation in classical literature (2016)
URL:https://calenda-formation.labocleo.org/346217
DESCRIPTION:Le vendredi 27 novembre aura lieu une journée d'études sur les œuvres au programme de l'agrégation de lettres classiques de l'année 2016. Bien que destinée prioritairement aux agrégatifs\, cette journée est ouverte à tous et à toutes. Une première par… @plus_info https://calenda-formation.labocleo.org/346217
LOCATION:Aix-en-Provence
END:VEVENT
END:VCALENDAR
