BEGIN:VCALENDAR
VERSION:2.0
PRODID:-//https://calenda-formation.labocleo.org
X-WR-CALNAME:Calenda
X-WR-TIMEZONE:Europe/Paris
CALSCALE:GREGORIAN
X-WR-CALDESC:The calendar for arts, humanities and social sciences
METHOD:PUBLISH
BEGIN:VEVENT
DTSTART;VALUE=DATE:20160108
DTEND;VALUE=DATE:20160109
UID:346282-20160108@calenda.revues.org
SUMMARY:The media-coverage of sport as spectacle
URL:https://calenda-formation.labocleo.org/346282
DESCRIPTION:Le spectacle-sportif s'est toujours accaparé les innovations successives dans le domaine des technologies de l'information et de la communication. A l'ère psot-digitale\, la Revue européenne de management du sport\, lance un appel à contribution pour u… @plus_info https://calenda-formation.labocleo.org/346282
LOCATION:
END:VEVENT
END:VCALENDAR
