BEGIN:VCALENDAR
VERSION:2.0
PRODID:-//https://calenda-formation.labocleo.org
X-WR-CALNAME:Calenda
X-WR-TIMEZONE:Europe/Paris
CALSCALE:GREGORIAN
X-WR-CALDESC:O calendário de letras e de ciências sociais e humanas
METHOD:PUBLISH
BEGIN:VEVENT
DTSTART;VALUE=DATE:20151127
DTEND;VALUE=DATE:20151128
UID:346410-20151127@calenda.revues.org
SUMMARY:Protection des données personnelles et sécurité nationale
URL:https://calenda-formation.labocleo.org/346410
DESCRIPTION:La nouvelle réglementation juridique relative au renseignement invite à réévaluer l’équilibre actuel entre liberté et sécurité\, dans un contexte totalement renouvelé. D’un côté\, la montée en puissance de la menace terroriste pousse les États et l’Uni… @plus_info https://calenda-formation.labocleo.org/346410
LOCATION:Toulon
END:VEVENT
END:VCALENDAR
