BEGIN:VCALENDAR
VERSION:2.0
PRODID:-//https://calenda-formation.labocleo.org
X-WR-CALNAME:Calenda
X-WR-TIMEZONE:Europe/Paris
CALSCALE:GREGORIAN
X-WR-CALDESC:The calendar for arts, humanities and social sciences
METHOD:PUBLISH
BEGIN:VEVENT
DTSTART;VALUE=DATE:20151109
DTEND;VALUE=DATE:20151110
UID:346424-20151109@calenda.revues.org
SUMMARY:Genetic criticism and authorial philology
URL:https://calenda-formation.labocleo.org/346424
DESCRIPTION:Nombreuses sont les raisons de se tourner vers l’Italie : notamment celle que les dossiers de manuscrits d’auteurs italiens ne demandent qu’à s’ouvrir à une interrogation sur les processus de l’écriture mais\, avant tout\, les proximités méthodologique… @plus_info https://calenda-formation.labocleo.org/346424
LOCATION:Paris
END:VEVENT
BEGIN:VEVENT
DTSTART;VALUE=DATE:20151123
DTEND;VALUE=DATE:20151124
UID:346424-20151123@calenda.revues.org
SUMMARY:Genetic criticism and authorial philology
URL:https://calenda-formation.labocleo.org/346424
DESCRIPTION:Nombreuses sont les raisons de se tourner vers l’Italie : notamment celle que les dossiers de manuscrits d’auteurs italiens ne demandent qu’à s’ouvrir à une interrogation sur les processus de l’écriture mais\, avant tout\, les proximités méthodologique… @plus_info https://calenda-formation.labocleo.org/346424
LOCATION:Paris
END:VEVENT
BEGIN:VEVENT
DTSTART;VALUE=DATE:20151207
DTEND;VALUE=DATE:20151208
UID:346424-20151207@calenda.revues.org
SUMMARY:Genetic criticism and authorial philology
URL:https://calenda-formation.labocleo.org/346424
DESCRIPTION:Nombreuses sont les raisons de se tourner vers l’Italie : notamment celle que les dossiers de manuscrits d’auteurs italiens ne demandent qu’à s’ouvrir à une interrogation sur les processus de l’écriture mais\, avant tout\, les proximités méthodologique… @plus_info https://calenda-formation.labocleo.org/346424
LOCATION:Paris
END:VEVENT
BEGIN:VEVENT
DTSTART;VALUE=DATE:20160118
DTEND;VALUE=DATE:20160119
UID:346424-20160118@calenda.revues.org
SUMMARY:Genetic criticism and authorial philology
URL:https://calenda-formation.labocleo.org/346424
DESCRIPTION:Nombreuses sont les raisons de se tourner vers l’Italie : notamment celle que les dossiers de manuscrits d’auteurs italiens ne demandent qu’à s’ouvrir à une interrogation sur les processus de l’écriture mais\, avant tout\, les proximités méthodologique… @plus_info https://calenda-formation.labocleo.org/346424
LOCATION:Paris
END:VEVENT
BEGIN:VEVENT
DTSTART;VALUE=DATE:20160215
DTEND;VALUE=DATE:20160216
UID:346424-20160215@calenda.revues.org
SUMMARY:Genetic criticism and authorial philology
URL:https://calenda-formation.labocleo.org/346424
DESCRIPTION:Nombreuses sont les raisons de se tourner vers l’Italie : notamment celle que les dossiers de manuscrits d’auteurs italiens ne demandent qu’à s’ouvrir à une interrogation sur les processus de l’écriture mais\, avant tout\, les proximités méthodologique… @plus_info https://calenda-formation.labocleo.org/346424
LOCATION:Paris
END:VEVENT
BEGIN:VEVENT
DTSTART;VALUE=DATE:20160321
DTEND;VALUE=DATE:20160322
UID:346424-20160321@calenda.revues.org
SUMMARY:Genetic criticism and authorial philology
URL:https://calenda-formation.labocleo.org/346424
DESCRIPTION:Nombreuses sont les raisons de se tourner vers l’Italie : notamment celle que les dossiers de manuscrits d’auteurs italiens ne demandent qu’à s’ouvrir à une interrogation sur les processus de l’écriture mais\, avant tout\, les proximités méthodologique… @plus_info https://calenda-formation.labocleo.org/346424
LOCATION:Paris
END:VEVENT
BEGIN:VEVENT
DTSTART;VALUE=DATE:20160411
DTEND;VALUE=DATE:20160412
UID:346424-20160411@calenda.revues.org
SUMMARY:Genetic criticism and authorial philology
URL:https://calenda-formation.labocleo.org/346424
DESCRIPTION:Nombreuses sont les raisons de se tourner vers l’Italie : notamment celle que les dossiers de manuscrits d’auteurs italiens ne demandent qu’à s’ouvrir à une interrogation sur les processus de l’écriture mais\, avant tout\, les proximités méthodologique… @plus_info https://calenda-formation.labocleo.org/346424
LOCATION:Paris
END:VEVENT
END:VCALENDAR
