BEGIN:VCALENDAR
VERSION:2.0
PRODID:-//https://calenda-formation.labocleo.org
X-WR-CALNAME:Calenda
X-WR-TIMEZONE:Europe/Paris
CALSCALE:GREGORIAN
X-WR-CALDESC:O calendário de letras e de ciências sociais e humanas
METHOD:PUBLISH
BEGIN:VEVENT
DTSTART;VALUE=DATE:20160229
DTEND;VALUE=DATE:20160301
UID:346873-20160229@calenda.revues.org
SUMMARY:Les labels dans le domaine du patrimoine
URL:https://calenda-formation.labocleo.org/346873
DESCRIPTION:Discrètement apparue dans les années soixante\, l’utilisation de la technique du label en matière de patrimoine connaît depuis quelques années une croissance spectaculaire en France. Issue du domaine de l’activité économique\, la technique du label app… @plus_info https://calenda-formation.labocleo.org/346873
LOCATION:Orleães
END:VEVENT
END:VCALENDAR
