BEGIN:VCALENDAR
VERSION:2.0
PRODID:-//https://calenda-formation.labocleo.org
X-WR-CALNAME:Calenda
X-WR-TIMEZONE:Europe/Paris
CALSCALE:GREGORIAN
X-WR-CALDESC:The calendar for arts, humanities and social sciences
METHOD:PUBLISH
BEGIN:VEVENT
DTSTART;VALUE=DATE:20151125
DTEND;VALUE=DATE:20151126
UID:347052-20151125@calenda.revues.org
SUMMARY:What pasts for what present?
URL:https://calenda-formation.labocleo.org/347052
DESCRIPTION:Si\, en 2014\, la première journée doctorale s'attachait à retrouver les souvenirs du passé dans les lieux présents\, il s'agira cette année d'adopter une perspective complémentaire. Après avoir étudié la survivance du passé dans le présent\, il sera que… @plus_info https://calenda-formation.labocleo.org/347052
LOCATION:Nanterre
END:VEVENT
END:VCALENDAR
