BEGIN:VCALENDAR
VERSION:2.0
PRODID:-//https://calenda-formation.labocleo.org
X-WR-CALNAME:Calenda
X-WR-TIMEZONE:Europe/Paris
CALSCALE:GREGORIAN
X-WR-CALDESC:The calendar for arts, humanities and social sciences
METHOD:PUBLISH
BEGIN:VEVENT
DTSTART;VALUE=DATE:20151215
DTEND;VALUE=DATE:20151216
UID:347241-20151215@calenda.revues.org
SUMMARY:Decapitalisations
URL:https://calenda-formation.labocleo.org/347241
DESCRIPTION:The conference\, organized by Centre d’histoire du XIXe siècle and Centre André Chastel\, scheduled on June 16th\, 17th and 18th 2016 and will be devoted to examining the fate of those capitals that have been temporarily or permanently stripped of their… @plus_info https://calenda-formation.labocleo.org/347241
LOCATION:Paris
END:VEVENT
END:VCALENDAR
