BEGIN:VCALENDAR
VERSION:2.0
PRODID:-//https://calenda-formation.labocleo.org
X-WR-CALNAME:Calenda
X-WR-TIMEZONE:Europe/Paris
CALSCALE:GREGORIAN
X-WR-CALDESC:The calendar for arts, humanities and social sciences
METHOD:PUBLISH
BEGIN:VEVENT
DTSTART;VALUE=DATE:20151203
DTEND;VALUE=DATE:20151204
UID:348102-20151203@calenda.revues.org
SUMMARY:Natiolity in War (1789-1991)
URL:https://calenda-formation.labocleo.org/348102
DESCRIPTION:War\, a time of exterior confrontation and interior reordering\, is a critical moment when forms of social and national inclusion and exclusion are reconfigured. The nationality of individuals becomes a crucial issue\, acquires a new meaning and takes o… @plus_info https://calenda-formation.labocleo.org/348102
LOCATION:Paris\, Pierrefitte-sur-Seine
END:VEVENT
BEGIN:VEVENT
DTSTART;VALUE=DATE:20151204
DTEND;VALUE=DATE:20151205
UID:348102-20151204@calenda.revues.org
SUMMARY:Natiolity in War (1789-1991)
URL:https://calenda-formation.labocleo.org/348102
DESCRIPTION:War\, a time of exterior confrontation and interior reordering\, is a critical moment when forms of social and national inclusion and exclusion are reconfigured. The nationality of individuals becomes a crucial issue\, acquires a new meaning and takes o… @plus_info https://calenda-formation.labocleo.org/348102
LOCATION:Paris\, Pierrefitte-sur-Seine
END:VEVENT
END:VCALENDAR
