BEGIN:VCALENDAR
VERSION:2.0
PRODID:-//https://calenda-formation.labocleo.org
X-WR-CALNAME:Calenda
X-WR-TIMEZONE:Europe/Paris
CALSCALE:GREGORIAN
X-WR-CALDESC:Le calendrier des lettres et sciences humaines et sociales
METHOD:PUBLISH
BEGIN:VEVENT
DTSTART;VALUE=DATE:20151125
DTEND;VALUE=DATE:20151126
UID:348227-20151125@calenda.revues.org
SUMMARY:Archéologie de l’Égypte : de la fouille à l’écriture de l’histoire
URL:https://calenda-formation.labocleo.org/348227
DESCRIPTION:Le département « Philosophie\, histoire\, sciences de l’homme » de bibliothèque nationale de France propose un cycle de conférences archéologiques dans le cadre d'une convention avec l'université Paris Sorbonne. Ce cycle archéologique est centré sur l'… Weitere Informationen https://calenda-formation.labocleo.org/348227
LOCATION:Paris
END:VEVENT
BEGIN:VEVENT
DTSTART;VALUE=DATE:20151209
DTEND;VALUE=DATE:20151210
UID:348227-20151209@calenda.revues.org
SUMMARY:Archéologie de l’Égypte : de la fouille à l’écriture de l’histoire
URL:https://calenda-formation.labocleo.org/348227
DESCRIPTION:Le département « Philosophie\, histoire\, sciences de l’homme » de bibliothèque nationale de France propose un cycle de conférences archéologiques dans le cadre d'une convention avec l'université Paris Sorbonne. Ce cycle archéologique est centré sur l'… Weitere Informationen https://calenda-formation.labocleo.org/348227
LOCATION:Paris
END:VEVENT
BEGIN:VEVENT
DTSTART;VALUE=DATE:20160127
DTEND;VALUE=DATE:20160128
UID:348227-20160127@calenda.revues.org
SUMMARY:Archéologie de l’Égypte : de la fouille à l’écriture de l’histoire
URL:https://calenda-formation.labocleo.org/348227
DESCRIPTION:Le département « Philosophie\, histoire\, sciences de l’homme » de bibliothèque nationale de France propose un cycle de conférences archéologiques dans le cadre d'une convention avec l'université Paris Sorbonne. Ce cycle archéologique est centré sur l'… Weitere Informationen https://calenda-formation.labocleo.org/348227
LOCATION:Paris
END:VEVENT
BEGIN:VEVENT
DTSTART;VALUE=DATE:20160330
DTEND;VALUE=DATE:20160331
UID:348227-20160330@calenda.revues.org
SUMMARY:Archéologie de l’Égypte : de la fouille à l’écriture de l’histoire
URL:https://calenda-formation.labocleo.org/348227
DESCRIPTION:Le département « Philosophie\, histoire\, sciences de l’homme » de bibliothèque nationale de France propose un cycle de conférences archéologiques dans le cadre d'une convention avec l'université Paris Sorbonne. Ce cycle archéologique est centré sur l'… Weitere Informationen https://calenda-formation.labocleo.org/348227
LOCATION:Paris
END:VEVENT
BEGIN:VEVENT
DTSTART;VALUE=DATE:20160525
DTEND;VALUE=DATE:20160526
UID:348227-20160525@calenda.revues.org
SUMMARY:Archéologie de l’Égypte : de la fouille à l’écriture de l’histoire
URL:https://calenda-formation.labocleo.org/348227
DESCRIPTION:Le département « Philosophie\, histoire\, sciences de l’homme » de bibliothèque nationale de France propose un cycle de conférences archéologiques dans le cadre d'une convention avec l'université Paris Sorbonne. Ce cycle archéologique est centré sur l'… Weitere Informationen https://calenda-formation.labocleo.org/348227
LOCATION:Paris
END:VEVENT
END:VCALENDAR
