BEGIN:VCALENDAR
VERSION:2.0
PRODID:-//https://calenda-formation.labocleo.org
X-WR-CALNAME:Calenda
X-WR-TIMEZONE:Europe/Paris
CALSCALE:GREGORIAN
X-WR-CALDESC:The calendar for arts, humanities and social sciences
METHOD:PUBLISH
BEGIN:VEVENT
DTSTART;VALUE=DATE:20160108
DTEND;VALUE=DATE:20160109
UID:349161-20160108@calenda.revues.org
SUMMARY:16th International Conference of the Graduate Student Association of the Historical Sciences Department of Université Laval
URL:https://calenda-formation.labocleo.org/349161
DESCRIPTION:Artefact invite les étudiants des deuxième et troisième cycles et les jeunes chercheurs à soumettre des propositions de communication pour le XVIe Colloque international étudiant du département des sciences historiques de l’université Laval. Ce rende… @plus_info https://calenda-formation.labocleo.org/349161
LOCATION:Quebec City
END:VEVENT
END:VCALENDAR
