BEGIN:VCALENDAR
VERSION:2.0
PRODID:-//https://calenda-formation.labocleo.org
X-WR-CALNAME:Calenda
X-WR-TIMEZONE:Europe/Paris
CALSCALE:GREGORIAN
X-WR-CALDESC:The calendar for arts, humanities and social sciences
METHOD:PUBLISH
BEGIN:VEVENT
DTSTART;VALUE=DATE:20160301
DTEND;VALUE=DATE:20160302
UID:349337-20160301@calenda.revues.org
SUMMARY:Landscapes\, staging landscapes\, winegrowing heritage\, tourist promotions and territorial development
URL:https://calenda-formation.labocleo.org/349337
DESCRIPTION:Le paysage viticole est caractérisé par son esthétique qui tranche par rapport aux autres types de paysages agricoles. Paysage culturel\, il est souvent labellisé par l'Unesco. Le patrimoine vitivinicole est de plus en plus sollicité dans des mises en… @plus_info https://calenda-formation.labocleo.org/349337
LOCATION:Orléans
END:VEVENT
END:VCALENDAR
