BEGIN:VCALENDAR
VERSION:2.0
PRODID:-//https://calenda-formation.labocleo.org
X-WR-CALNAME:Calenda
X-WR-TIMEZONE:Europe/Paris
CALSCALE:GREGORIAN
X-WR-CALDESC:O calendário de letras e de ciências sociais e humanas
METHOD:PUBLISH
BEGIN:VEVENT
DTSTART;VALUE=DATE:20151204
DTEND;VALUE=DATE:20151205
UID:349372-20151204@calenda.revues.org
SUMMARY:Religious Education in schools in France and Germany
URL:https://calenda-formation.labocleo.org/349372
DESCRIPTION:The 2015 terrorist attacks in Paris have evoked debates among French politicians regarding the role of\, and space for religious education in public schools. Secularism (« laïcité ») is an essential principle of the French Republic. When applied to th… @plus_info https://calenda-formation.labocleo.org/349372
LOCATION:Paris
END:VEVENT
END:VCALENDAR
