BEGIN:VCALENDAR
VERSION:2.0
PRODID:-//https://calenda-formation.labocleo.org
X-WR-CALNAME:Calenda
X-WR-TIMEZONE:Europe/Paris
CALSCALE:GREGORIAN
X-WR-CALDESC:O calendário de letras e de ciências sociais e humanas
METHOD:PUBLISH
BEGIN:VEVENT
DTSTART;VALUE=DATE:20160105
DTEND;VALUE=DATE:20160106
UID:350176-20160105@calenda.revues.org
SUMMARY:Repenser le médium
URL:https://calenda-formation.labocleo.org/350176
DESCRIPTION:Dans une certaine mesure\, les usages des termes « médium » et « média(s) » sont encore organisés aujourd'hui autour d’un strict partage théorique et disciplinaire : d’un côté\, l’étude des médiums et\, de l’autre\, l’étude des médias entendus au sens de… @plus_info https://calenda-formation.labocleo.org/350176
LOCATION:
END:VEVENT
END:VCALENDAR
