BEGIN:VCALENDAR
VERSION:2.0
PRODID:-//https://calenda-formation.labocleo.org
X-WR-CALNAME:Calenda
X-WR-TIMEZONE:Europe/Paris
CALSCALE:GREGORIAN
X-WR-CALDESC:Le calendrier des lettres et sciences humaines et sociales
METHOD:PUBLISH
BEGIN:VEVENT
DTSTART;VALUE=DATE:20160401
DTEND;VALUE=DATE:20160402
UID:350463-20160401@calenda.revues.org
SUMMARY:Musique – Disque – Radio en pays francophones (1900-1950)
URL:https://calenda-formation.labocleo.org/350463
DESCRIPTION:Le disque puis la radio ont changé radicalement le rapport des musiciens et des auditeurs à la musique en quelques décennies\, entre 1900 et 1950. La musique devient au centre de la production discographique et de la radiodiffusion et doit affronter à… @plus_info https://calenda-formation.labocleo.org/350463
LOCATION:Montréal
END:VEVENT
END:VCALENDAR
