BEGIN:VCALENDAR
VERSION:2.0
PRODID:-//https://calenda-formation.labocleo.org
X-WR-CALNAME:Calenda
X-WR-TIMEZONE:Europe/Paris
CALSCALE:GREGORIAN
X-WR-CALDESC:Le calendrier des lettres et sciences humaines et sociales
METHOD:PUBLISH
BEGIN:VEVENT
DTSTART;VALUE=DATE:20160122
DTEND;VALUE=DATE:20160123
UID:350484-20160122@calenda.revues.org
SUMMARY:Humains numériques sans le savoir ? 
URL:https://calenda-formation.labocleo.org/350484
DESCRIPTION:Depuis le manifeste des 18 et 19 mai 2010 les sciences humaines découvrent leur « digitalité ». Qu’il s’agisse d’étudier des communautés en ligne\, de manipuler des fichiers de data pour les passer au filtre des logiciels d’analyse de contenus ou de b… Weitere Informationen https://calenda-formation.labocleo.org/350484
LOCATION:Paris
END:VEVENT
END:VCALENDAR
