BEGIN:VCALENDAR
VERSION:2.0
PRODID:-//https://calenda-formation.labocleo.org
X-WR-CALNAME:Calenda
X-WR-TIMEZONE:Europe/Paris
CALSCALE:GREGORIAN
X-WR-CALDESC:Le calendrier des lettres et sciences humaines et sociales
METHOD:PUBLISH
BEGIN:VEVENT
DTSTART;VALUE=DATE:20160201
DTEND;VALUE=DATE:20160202
UID:350577-20160201@calenda.revues.org
SUMMARY:Épistémologues du pluriel
URL:https://calenda-formation.labocleo.org/350577
DESCRIPTION:Ce numéro de Sociétés plurielles vise à comprendre comment les diverses sciences humaines et sociales abordent la question du « pluriel » dans les sociétés. À partir de quels matériaux\, de quels types de sources ? Avec quels concepts\, quels paradigme… Más informaciones https://calenda-formation.labocleo.org/350577
LOCATION:París
END:VEVENT
END:VCALENDAR
