BEGIN:VCALENDAR
VERSION:2.0
PRODID:-//https://calenda-formation.labocleo.org
X-WR-CALNAME:Calenda
X-WR-TIMEZONE:Europe/Paris
CALSCALE:GREGORIAN
X-WR-CALDESC:The calendar for arts, humanities and social sciences
METHOD:PUBLISH
BEGIN:VEVENT
DTSTART;VALUE=DATE:20160215
DTEND;VALUE=DATE:20160216
UID:350676-20160215@calenda.revues.org
SUMMARY:Saussure's Le Cours de linguistique générale 1916-2016
URL:https://calenda-formation.labocleo.org/350676
DESCRIPTION:Le Cours de Linguistique Générale\, sous la signature de Ferdinand de Saussure\, mais rédigé dans les circonstances particulières que l’on sait\, a constitué\, soit dans une filiation assumée\, soit dans une opposition plus ou moins explicite\, une référen… @plus_info https://calenda-formation.labocleo.org/350676
LOCATION:
END:VEVENT
BEGIN:VEVENT
DTSTART;VALUE=DATE:20160801
DTEND;VALUE=DATE:20160802
UID:350676-20160801@calenda.revues.org
SUMMARY:Saussure's Le Cours de linguistique générale 1916-2016
URL:https://calenda-formation.labocleo.org/350676
DESCRIPTION:Le Cours de Linguistique Générale\, sous la signature de Ferdinand de Saussure\, mais rédigé dans les circonstances particulières que l’on sait\, a constitué\, soit dans une filiation assumée\, soit dans une opposition plus ou moins explicite\, une référen… @plus_info https://calenda-formation.labocleo.org/350676
LOCATION:
END:VEVENT
END:VCALENDAR
