BEGIN:VCALENDAR
VERSION:2.0
PRODID:-//https://calenda-formation.labocleo.org
X-WR-CALNAME:Calenda
X-WR-TIMEZONE:Europe/Paris
CALSCALE:GREGORIAN
X-WR-CALDESC:The calendar for arts, humanities and social sciences
METHOD:PUBLISH
BEGIN:VEVENT
DTSTART;VALUE=DATE:20160207
DTEND;VALUE=DATE:20160208
UID:351218-20160207@calenda.revues.org
SUMMARY:Making history in the Middle Ages -Questes seminar
URL:https://calenda-formation.labocleo.org/351218
DESCRIPTION:Depuis les travaux pionniers de Bernard Guenée\, l’histoire de l’historiographie médiévale a connu des avancées remarquables qui ont permis de réhabiliter le travail des historiens du Moyen Âge. C’est dans la lignée de ces études que nous proposons le… @plus_info https://calenda-formation.labocleo.org/351218
LOCATION:Paris
END:VEVENT
END:VCALENDAR
